BEGIN:VCALENDAR
VERSION:2.0
PRODID:-//Mercedarian Sisters - ECPv6.15.18//NONSGML v1.0//EN
CALSCALE:GREGORIAN
METHOD:PUBLISH
X-WR-CALNAME:Mercedarian Sisters
X-ORIGINAL-URL:https://mercedariansisters.org
X-WR-CALDESC:Events for Mercedarian Sisters
REFRESH-INTERVAL;VALUE=DURATION:PT1H
X-Robots-Tag:noindex
X-PUBLISHED-TTL:PT1H
BEGIN:VTIMEZONE
TZID:America/Chicago
BEGIN:DAYLIGHT
TZOFFSETFROM:-0600
TZOFFSETTO:-0500
TZNAME:CDT
DTSTART:20250309T080000
END:DAYLIGHT
BEGIN:STANDARD
TZOFFSETFROM:-0500
TZOFFSETTO:-0600
TZNAME:CST
DTSTART:20251102T070000
END:STANDARD
BEGIN:DAYLIGHT
TZOFFSETFROM:-0600
TZOFFSETTO:-0500
TZNAME:CDT
DTSTART:20260308T080000
END:DAYLIGHT
BEGIN:STANDARD
TZOFFSETFROM:-0500
TZOFFSETTO:-0600
TZNAME:CST
DTSTART:20261101T070000
END:STANDARD
BEGIN:DAYLIGHT
TZOFFSETFROM:-0600
TZOFFSETTO:-0500
TZNAME:CDT
DTSTART:20270314T080000
END:DAYLIGHT
BEGIN:STANDARD
TZOFFSETFROM:-0500
TZOFFSETTO:-0600
TZNAME:CST
DTSTART:20271107T070000
END:STANDARD
END:VTIMEZONE
BEGIN:VTIMEZONE
TZID:America/New_York
BEGIN:DAYLIGHT
TZOFFSETFROM:-0500
TZOFFSETTO:-0400
TZNAME:EDT
DTSTART:20250309T070000
END:DAYLIGHT
BEGIN:STANDARD
TZOFFSETFROM:-0400
TZOFFSETTO:-0500
TZNAME:EST
DTSTART:20251102T060000
END:STANDARD
BEGIN:DAYLIGHT
TZOFFSETFROM:-0500
TZOFFSETTO:-0400
TZNAME:EDT
DTSTART:20260308T070000
END:DAYLIGHT
BEGIN:STANDARD
TZOFFSETFROM:-0400
TZOFFSETTO:-0500
TZNAME:EST
DTSTART:20261101T060000
END:STANDARD
BEGIN:DAYLIGHT
TZOFFSETFROM:-0500
TZOFFSETTO:-0400
TZNAME:EDT
DTSTART:20270314T070000
END:DAYLIGHT
BEGIN:STANDARD
TZOFFSETFROM:-0400
TZOFFSETTO:-0500
TZNAME:EST
DTSTART:20271107T060000
END:STANDARD
END:VTIMEZONE
BEGIN:VEVENT
DTSTART;TZID=America/Chicago:20260430T180000
DTEND;TZID=America/Chicago:20260430T200000
DTSTAMP:20260425T094452
CREATED:20260319T180544Z
LAST-MODIFIED:20260327T171405Z
UID:5483-1777572000-1777579200@mercedariansisters.org
SUMMARY:Encounter School of Ministry Transformation Night
DESCRIPTION:Please join our sisters and the Baton Rouge Satellite Campus of the Encounter School of Ministry on April 30\, 2026 from 6- 8pm at Cypress Springs Mercedarian Prayer Center for a Transformation Night. The evening will begin with Praise and Worship and include a talk and prayer ministry after. For more information please see the attached flyer.
URL:https://mercedariansisters.org/event/encounter-school-of-ministry-transformation-night/
LOCATION:Cypress Springs Mercedarian Prayer Center\, 17560 George O'Neal Road\, Baton Rouge\, Louisiana\, 70817
ATTACH;FMTTYPE=image/jpeg:https://mercedariansisters.org/wp-content/uploads/2026/03/ESM-BR-Transformation-Night-scaled.jpg
END:VEVENT
BEGIN:VEVENT
DTSTART;TZID=America/New_York:20260502T080000
DTEND;TZID=America/New_York:20260502T140000
DTSTAMP:20260425T094452
CREATED:20260410T203323Z
LAST-MODIFIED:20260410T203323Z
UID:5537-1777708800-1777730400@mercedariansisters.org
SUMMARY:St. Joseph Catholic Church Women's Retreat
DESCRIPTION:Please join our sisters at St. Joseph Catholic Church in Maumee\, Ohio on Saturday May 2\, 2026 from 8am-20m for Women’s Retreat. The theme of the retreat is being God’s Princesses: Learning to live as a Daughter of the King. For more information and to register please see the attached flyer.
URL:https://mercedariansisters.org/event/st-joseph-catholic-church-womens-retreat/
LOCATION:St. Joseph Parish- Maumee\, 104 W Broadway St\, Maumee\, Ohio\, 43537
ATTACH;FMTTYPE=image/png:https://mercedariansisters.org/wp-content/uploads/2026/04/ADKq_NbKWgp0L6Q2LDcZ7p-FioboBUJ5Yi3EQWJ2vVeKVF7McxRr0OU3VRePqrEdDEJJjzareFDu3ot0gpulrxQKvVC-yuSx1rX3B13T1B5fi2kBSxtibgyoSSYyjE-JJxW_ImSYpvJ4OD6O0p3lR1aWpkLgbJddDAs0-d-e1-ft.png
END:VEVENT
END:VCALENDAR