BEGIN:VCALENDAR
VERSION:2.0
PRODID:-//Mercedarian Sisters - ECPv6.15.18//NONSGML v1.0//EN
CALSCALE:GREGORIAN
METHOD:PUBLISH
X-WR-CALNAME:Mercedarian Sisters
X-ORIGINAL-URL:https://mercedariansisters.org
X-WR-CALDESC:Events for Mercedarian Sisters
REFRESH-INTERVAL;VALUE=DURATION:PT1H
X-Robots-Tag:noindex
X-PUBLISHED-TTL:PT1H
BEGIN:VTIMEZONE
TZID:America/New_York
BEGIN:DAYLIGHT
TZOFFSETFROM:-0500
TZOFFSETTO:-0400
TZNAME:EDT
DTSTART:20250309T070000
END:DAYLIGHT
BEGIN:STANDARD
TZOFFSETFROM:-0400
TZOFFSETTO:-0500
TZNAME:EST
DTSTART:20251102T060000
END:STANDARD
BEGIN:DAYLIGHT
TZOFFSETFROM:-0500
TZOFFSETTO:-0400
TZNAME:EDT
DTSTART:20260308T070000
END:DAYLIGHT
BEGIN:STANDARD
TZOFFSETFROM:-0400
TZOFFSETTO:-0500
TZNAME:EST
DTSTART:20261101T060000
END:STANDARD
BEGIN:DAYLIGHT
TZOFFSETFROM:-0500
TZOFFSETTO:-0400
TZNAME:EDT
DTSTART:20270314T070000
END:DAYLIGHT
BEGIN:STANDARD
TZOFFSETFROM:-0400
TZOFFSETTO:-0500
TZNAME:EST
DTSTART:20271107T060000
END:STANDARD
END:VTIMEZONE
BEGIN:VEVENT
DTSTART;TZID=America/New_York:20260414T180000
DTEND;TZID=America/New_York:20260414T200000
DTSTAMP:20260423T091237
CREATED:20260327T170944Z
LAST-MODIFIED:20260327T170944Z
UID:5502-1776189600-1776196800@mercedariansisters.org
SUMMARY:Family Adoration Night
DESCRIPTION:Please join our sisters at Holy Family Parish in Stow\, Ohio Tuesday April 14\, 2026 from 6-8pm for a night of family Adoration. Sr. Josefina will be sharing a reflection on the Eucharist and there will be Adoration and prayer ministry. For more information please see the attached flyer.
URL:https://mercedariansisters.org/event/family-adoration-night/
LOCATION:Holy Family Church\, Stow\, Ohio
ATTACH;FMTTYPE=image/jpeg:https://mercedariansisters.org/wp-content/uploads/2026/03/Family-Adoration-Night-scaled.jpg
END:VEVENT
END:VCALENDAR