BEGIN:VCALENDAR
VERSION:2.0
PRODID:-//Mercedarian Sisters - ECPv6.15.18//NONSGML v1.0//EN
CALSCALE:GREGORIAN
METHOD:PUBLISH
X-WR-CALNAME:Mercedarian Sisters
X-ORIGINAL-URL:https://mercedariansisters.org
X-WR-CALDESC:Events for Mercedarian Sisters
REFRESH-INTERVAL;VALUE=DURATION:PT1H
X-Robots-Tag:noindex
X-PUBLISHED-TTL:PT1H
BEGIN:VTIMEZONE
TZID:America/New_York
BEGIN:DAYLIGHT
TZOFFSETFROM:-0500
TZOFFSETTO:-0400
TZNAME:EDT
DTSTART:20250309T070000
END:DAYLIGHT
BEGIN:STANDARD
TZOFFSETFROM:-0400
TZOFFSETTO:-0500
TZNAME:EST
DTSTART:20251102T060000
END:STANDARD
BEGIN:DAYLIGHT
TZOFFSETFROM:-0500
TZOFFSETTO:-0400
TZNAME:EDT
DTSTART:20260308T070000
END:DAYLIGHT
BEGIN:STANDARD
TZOFFSETFROM:-0400
TZOFFSETTO:-0500
TZNAME:EST
DTSTART:20261101T060000
END:STANDARD
BEGIN:DAYLIGHT
TZOFFSETFROM:-0500
TZOFFSETTO:-0400
TZNAME:EDT
DTSTART:20270314T070000
END:DAYLIGHT
BEGIN:STANDARD
TZOFFSETFROM:-0400
TZOFFSETTO:-0500
TZNAME:EST
DTSTART:20271107T060000
END:STANDARD
END:VTIMEZONE
BEGIN:VEVENT
DTSTART;TZID=America/New_York:20260411T193000
DTEND;TZID=America/New_York:20260411T210000
DTSTAMP:20260425T075908
CREATED:20260409T193844Z
LAST-MODIFIED:20260410T171704Z
UID:5525-1775935800-1775941200@mercedariansisters.org
SUMMARY:Pray for Peace
DESCRIPTION:Please join our Sisters from Baton Rouge\, LA on YouTube\, from 7:30-9pm ET on Saturday\, April 11\, to pray for peace in our world.
URL:https://mercedariansisters.org/event/pray-for-peace/
LOCATION:Ohio
ATTACH;FMTTYPE=image/jpeg:https://mercedariansisters.org/wp-content/uploads/2026/04/2.jpeg
END:VEVENT
END:VCALENDAR