BEGIN:VCALENDAR
VERSION:2.0
PRODID:-//Mercedarian Sisters - ECPv6.15.18//NONSGML v1.0//EN
CALSCALE:GREGORIAN
METHOD:PUBLISH
X-ORIGINAL-URL:https://mercedariansisters.org
X-WR-CALDESC:Events for Mercedarian Sisters
REFRESH-INTERVAL;VALUE=DURATION:PT1H
X-Robots-Tag:noindex
X-PUBLISHED-TTL:PT1H
BEGIN:VTIMEZONE
TZID:America/Chicago
BEGIN:DAYLIGHT
TZOFFSETFROM:-0600
TZOFFSETTO:-0500
TZNAME:CDT
DTSTART:20230312T080000
END:DAYLIGHT
BEGIN:STANDARD
TZOFFSETFROM:-0500
TZOFFSETTO:-0600
TZNAME:CST
DTSTART:20231105T070000
END:STANDARD
BEGIN:DAYLIGHT
TZOFFSETFROM:-0600
TZOFFSETTO:-0500
TZNAME:CDT
DTSTART:20240310T080000
END:DAYLIGHT
BEGIN:STANDARD
TZOFFSETFROM:-0500
TZOFFSETTO:-0600
TZNAME:CST
DTSTART:20241103T070000
END:STANDARD
BEGIN:DAYLIGHT
TZOFFSETFROM:-0600
TZOFFSETTO:-0500
TZNAME:CDT
DTSTART:20250309T080000
END:DAYLIGHT
BEGIN:STANDARD
TZOFFSETFROM:-0500
TZOFFSETTO:-0600
TZNAME:CST
DTSTART:20251102T070000
END:STANDARD
END:VTIMEZONE
BEGIN:VEVENT
DTSTART;TZID=America/Chicago:20240919T180000
DTEND;TZID=America/Chicago:20240919T210000
DTSTAMP:20260422T055507
CREATED:20240826T233923Z
LAST-MODIFIED:20240826T233923Z
UID:4877-1726768800-1726779600@mercedariansisters.org
SUMMARY:Night of Adoration
DESCRIPTION:Please join us at Mercedarian Prayer Center Chapel of Divine Providence on Thursday September 19\, 2024 at 6pm. The evening will include Eucharistic Adoration\, Praise and Worship\, Prayer Ministry\, Night Prayer\, and Fellowship. For any questions please contact 225-752-8480.
URL:https://mercedariansisters.org/event/night-of-adoration-4/
LOCATION:Cypress Springs Mercedarian Prayer Center\, 17560 George O'Neal Road\, Baton Rouge\, Louisiana\, 70817
ATTACH;FMTTYPE=image/jpeg:https://mercedariansisters.org/wp-content/uploads/2024/08/2024-25-Nights-of-Adoration-scaled.jpg
END:VEVENT
END:VCALENDAR